BEGIN:VCALENDAR
VERSION:2.0
PRODID:SchoolNow
CALSCALE:GREGORIAN
BEGIN:VEVENT
UID:a884c27c-ba68-11e7-9a2b-12990e6e645a
DTSTAMP:20171026T161352Z
SUMMARY:No School -- Memorial Day
URL;VALUE=URI:https://www.niles71.org/about-us/calendar/1651243/no-school-m
 emorial-day
DTSTART;VALUE=DATE:20180528
DTEND;VALUE=DATE:20180529
END:VEVENT
END:VCALENDAR
