BEGIN:VCALENDAR
VERSION:2.0
PRODID:SchoolNow
CALSCALE:GREGORIAN
BEGIN:VEVENT
UID:3129a266-ba71-11e7-bb7b-0ac785371dd4
DTSTAMP:20180118T205825Z
SUMMARY:Early Release
URL;VALUE=URI:https://www.niles71.org/about-us/calendar/1651254/early-relea
 se
DTSTART:20180525T113000Z
DTEND:20180525T171100Z
END:VEVENT
END:VCALENDAR
