BEGIN:VCALENDAR
VERSION:2.0
PRODID:SchoolNow
CALSCALE:GREGORIAN
BEGIN:VEVENT
UID:df721d06-d9e5-11e7-98df-0a1dfd83edbe
DTSTAMP:20171205T175817Z
SUMMARY:Kindergarten Graduation
URL;VALUE=URI:https://www.niles71.org/about-us/calendar/1679706/kindergarte
 n-graduation
DTSTART:20180530T133000Z
DTEND:20180530T143000Z
END:VEVENT
END:VCALENDAR
