BEGIN:VCALENDAR
VERSION:2.0
PRODID:SchoolNow
CALSCALE:GREGORIAN
BEGIN:VEVENT
UID:8f097518-d9e9-11e7-bdd6-123e51195bda
DTSTAMP:20180118T222000Z
SUMMARY:Preschool Celebrations -- 9:00\, 10:15 & 12:15
URL;VALUE=URI:https://www.niles71.org/about-us/calendar/1679710/preschool-c
 elebrations
DTSTART;VALUE=DATE:20180530
DTEND;VALUE=DATE:20180531
END:VEVENT
END:VCALENDAR
