BEGIN:VCALENDAR
VERSION:2.0
PRODID:SchoolNow
CALSCALE:GREGORIAN
BEGIN:VEVENT
UID:509acb80-4260-11e8-b275-12cd4268ac92
DTSTAMP:20180417T173419Z
SUMMARY:First Day of School -- Grades 1-8
URL;VALUE=URI:https://www.niles71.org/about-us/calendar/1766996/first-day-o
 f-school-grades-18
DTSTART:20180822T080000Z
DTEND:20180822T150000Z
END:VEVENT
END:VCALENDAR
