BEGIN:VCALENDAR
VERSION:2.0
PRODID:SchoolNow
CALSCALE:GREGORIAN
BEGIN:VEVENT
UID:fb6124fc-4264-11e8-9ce3-0a40d87e8268
DTSTAMP:20180417T173011Z
SUMMARY:Kindergarten Information Night
URL;VALUE=URI:https://www.niles71.org/about-us/calendar/1766999/kindergarte
 n-information-night
DTSTART:20180822T173000Z
DTEND:20180822T183000Z
END:VEVENT
END:VCALENDAR
