BEGIN:VCALENDAR
VERSION:2.0
PRODID:SchoolNow
CALSCALE:GREGORIAN
BEGIN:VEVENT
UID:983c7fa0-4329-11e8-89c7-123bf1bfba00
DTSTAMP:20180418T165736Z
SUMMARY:Preschool Information Night
URL;VALUE=URI:https://www.niles71.org/about-us/calendar/1767307/preschool-i
 nformation-night
DTSTART:20180822T183000Z
DTEND:20180822T193000Z
END:VEVENT
END:VCALENDAR
