BEGIN:VCALENDAR
VERSION:2.0
PRODID:SchoolNow
CALSCALE:GREGORIAN
BEGIN:VEVENT
UID:f2f21acc-4329-11e8-a1fa-126c3db47aaa
DTSTAMP:20180418T170440Z
SUMMARY:First Full Day of School for Kindergarten & Preschool
URL;VALUE=URI:https://www.niles71.org/about-us/calendar/1767311/first-full-
 day-of-school-for-kindergarten-preschool
DTSTART:20180824T080000Z
DTEND:20180824T150000Z
END:VEVENT
END:VCALENDAR
