BEGIN:VCALENDAR
VERSION:2.0
PRODID:SchoolNow
CALSCALE:GREGORIAN
BEGIN:VEVENT
UID:c4f3a3e0-4412-11e8-b8c1-12562d867826
DTSTAMP:20190603T125020Z
SUMMARY:Last Day of School -- 1:00pm Dismissal
URL;VALUE=URI:https://www.niles71.org/about-us/calendar/1767977/last-day-of
 -school-100pm-dismissal
DTSTART:20190605T130000Z
DTEND:20190605T214100Z
END:VEVENT
END:VCALENDAR
