BEGIN:VCALENDAR
VERSION:2.0
PRODID:SchoolNow
CALSCALE:GREGORIAN
BEGIN:VEVENT
UID:32643fd8-6a89-11e8-b0ea-0a2bfbb5dbf4
DTSTAMP:20180912T211744Z
SUMMARY:Board of Education Meeting
URL;VALUE=URI:https://www.niles71.org/about-us/calendar/1792292/board-of-ed
 ucation-meeting
DTSTART:20180926T183000Z
DTEND:20180926T184000Z
END:VEVENT
END:VCALENDAR
