BEGIN:VCALENDAR
VERSION:2.0
PRODID:SchoolNow
CALSCALE:GREGORIAN
BEGIN:VEVENT
UID:9065b27e-6a89-11e8-ac50-0a2bfbb5dbf4
DTSTAMP:20180911T204101Z
SUMMARY:Board of Education Meeting
URL;VALUE=URI:https://www.niles71.org/about-us/calendar/1792293/board-of-ed
 ucation-meeting
DTSTART:20181016T183000Z
DTEND:20181016T213000Z
END:VEVENT
END:VCALENDAR
