BEGIN:VCALENDAR
VERSION:2.0
PRODID:SchoolNow
CALSCALE:GREGORIAN
BEGIN:VEVENT
UID:21bd88a0-6a8f-11e8-a1b1-0a5076626a7e
DTSTAMP:20190320T190737Z
SUMMARY:Board of Education Meeting
URL;VALUE=URI:https://www.niles71.org/about-us/calendar/1792306/board-of-ed
 ucation-meeting
DTSTART:20190423T183000Z
DTEND:20190423T203000Z
END:VEVENT
END:VCALENDAR
