BEGIN:VCALENDAR
VERSION:2.0
PRODID:SchoolNow
CALSCALE:GREGORIAN
BEGIN:VEVENT
UID:5a928982-6a8f-11e8-b621-0a9367e5cb02
DTSTAMP:20190529T195820Z
SUMMARY:Board of Education Meeting
URL;VALUE=URI:https://www.niles71.org/about-us/calendar/1792307/board-of-ed
 ucation-meeting
DTSTART:20190521T183000Z
DTEND:20190521T203000Z
END:VEVENT
END:VCALENDAR
