BEGIN:VCALENDAR
VERSION:2.0
PRODID:SchoolNow
CALSCALE:GREGORIAN
BEGIN:VEVENT
UID:e282670e-6a8f-11e8-8e84-0a9367e5cb02
DTSTAMP:20180917T163415Z
SUMMARY:Board of Education Meeting
URL;VALUE=URI:https://www.niles71.org/about-us/calendar/1792308/board-of-ed
 ucation-meeting
DTSTART:20190618T183000Z
DTEND:20190618T193000Z
END:VEVENT
END:VCALENDAR
