BEGIN:VCALENDAR
VERSION:2.0
PRODID:SchoolNow
CALSCALE:GREGORIAN
BEGIN:VEVENT
UID:d6fbb4d8-6a91-11e8-9305-12f39c0a5fc6
DTSTAMP:20180607T203556Z
SUMMARY:No School -- Teacher Institute Day
URL;VALUE=URI:https://www.niles71.org/about-us/calendar/1792311/teacher-ins
 titute-day
DTSTART:20180820T203100Z
DTEND:20180820T213100Z
END:VEVENT
END:VCALENDAR
