BEGIN:VCALENDAR
VERSION:2.0
PRODID:SchoolNow
CALSCALE:GREGORIAN
BEGIN:VEVENT
UID:0659245e-6a92-11e8-9d91-0a5076626a7e
DTSTAMP:20180607T203612Z
SUMMARY:No School -- Teacher Institute Day
URL;VALUE=URI:https://www.niles71.org/about-us/calendar/1792312/teacher-ins
 titute-day
DTSTART:20180821T203200Z
DTEND:20180821T213200Z
END:VEVENT
END:VCALENDAR
