BEGIN:VCALENDAR
VERSION:2.0
PRODID:SchoolNow
CALSCALE:GREGORIAN
BEGIN:VEVENT
UID:20dc9f4a-6a92-11e8-9f9c-0a5076626a7e
DTSTAMP:20180607T203634Z
SUMMARY:No School -- Labor Day
URL;VALUE=URI:https://www.niles71.org/about-us/calendar/1792313/no-school-l
 abor-day
DTSTART:20180903T203300Z
DTEND:20180903T213300Z
END:VEVENT
END:VCALENDAR
