BEGIN:VCALENDAR
VERSION:2.0
PRODID:SchoolNow
CALSCALE:GREGORIAN
BEGIN:VEVENT
UID:3da411ee-6a92-11e8-95e0-0a5076626a7e
DTSTAMP:20180607T203903Z
SUMMARY:No School --  Columbus Day
URL;VALUE=URI:https://www.niles71.org/about-us/calendar/1792314/no-school-c
 olumbus-day
DTSTART:20181008T203400Z
DTEND:20181008T213400Z
END:VEVENT
END:VCALENDAR
