BEGIN:VCALENDAR
VERSION:2.0
PRODID:SchoolNow
CALSCALE:GREGORIAN
BEGIN:VEVENT
UID:f8735fb6-6a92-11e8-9fca-12f39c0a5fc6
DTSTAMP:20180607T204010Z
SUMMARY:No School --  Teacher Institute Day
URL;VALUE=URI:https://www.niles71.org/about-us/calendar/1792316/no-school-t
 eacher-institute-day
DTSTART:20181026T203900Z
DTEND:20181026T213900Z
END:VEVENT
END:VCALENDAR
