BEGIN:VCALENDAR
VERSION:2.0
PRODID:SchoolNow
CALSCALE:GREGORIAN
BEGIN:VEVENT
UID:2ccf56c0-6a93-11e8-925f-0a9367e5cb02
DTSTAMP:20180607T204137Z
SUMMARY:No School -- Parent Teacher Conferences
URL;VALUE=URI:https://www.niles71.org/about-us/calendar/1792317/no-school-p
 arent-teacher-conferences
DTSTART:20181120T204000Z
DTEND:20181120T214000Z
END:VEVENT
END:VCALENDAR
