BEGIN:VCALENDAR
VERSION:2.0
PRODID:SchoolNow
CALSCALE:GREGORIAN
BEGIN:VEVENT
UID:56eeb2fc-6a93-11e8-b7a5-0a5076626a7e
DTSTAMP:20180607T204248Z
SUMMARY:No School
URL;VALUE=URI:https://www.niles71.org/about-us/calendar/1792319/no-school
DTSTART:20181121T204200Z
DTEND:20181121T214200Z
END:VEVENT
END:VCALENDAR
