BEGIN:VCALENDAR
VERSION:2.0
PRODID:SchoolNow
CALSCALE:GREGORIAN
BEGIN:VEVENT
UID:72049e4e-6a93-11e8-8b6b-0a9367e5cb02
DTSTAMP:20180607T204334Z
SUMMARY:No School --  Thanksgiving
URL;VALUE=URI:https://www.niles71.org/about-us/calendar/1792320/no-school-t
 hanksgiving
DTSTART:20181122T204200Z
DTEND:20181122T214200Z
END:VEVENT
END:VCALENDAR
