BEGIN:VCALENDAR
VERSION:2.0
PRODID:SchoolNow
CALSCALE:GREGORIAN
BEGIN:VEVENT
UID:c6631dee-6a93-11e8-a48d-125f6f4075be
DTSTAMP:20180607T204555Z
SUMMARY:No School
URL;VALUE=URI:https://www.niles71.org/about-us/calendar/1792323/no-school
DTSTART:20181123T204500Z
DTEND:20181123T214500Z
END:VEVENT
END:VCALENDAR
