BEGIN:VCALENDAR
VERSION:2.0
PRODID:SchoolNow
CALSCALE:GREGORIAN
BEGIN:VEVENT
UID:02e5b808-6a94-11e8-b5cd-0a5076626a7e
DTSTAMP:20180911T212111Z
SUMMARY:No School  -- Winter Break
URL;VALUE=URI:https://www.niles71.org/about-us/calendar/1792324/no-school-w
 inter-break
DTSTART;VALUE=DATE:20181224
DTEND;VALUE=DATE:20190105
END:VEVENT
END:VCALENDAR
