BEGIN:VCALENDAR
VERSION:2.0
PRODID:SchoolNow
CALSCALE:GREGORIAN
BEGIN:VEVENT
UID:4f588d9a-6a95-11e8-9f8c-125f6f4075be
DTSTAMP:20180607T205654Z
SUMMARY:No School -- Martin Luther King  Jr. Day
URL;VALUE=URI:https://www.niles71.org/about-us/calendar/1792327/no-school-m
 artin-luther-king-jr-day
DTSTART:20190121T205100Z
DTEND:20190121T215100Z
END:VEVENT
END:VCALENDAR
