BEGIN:VCALENDAR
VERSION:2.0
PRODID:SchoolNow
CALSCALE:GREGORIAN
BEGIN:VEVENT
UID:65585020-b5ff-11e8-9d8b-121996b373a2
DTSTAMP:20180911T203859Z
SUMMARY:Early Release
URL;VALUE=URI:https://www.niles71.org/about-us/calendar/1864546/early-relea
 se
DTSTART:20180928T113000Z
DTEND:20180928T150000Z
END:VEVENT
END:VCALENDAR
