BEGIN:VCALENDAR
VERSION:2.0
PRODID:SchoolNow
CALSCALE:GREGORIAN
BEGIN:VEVENT
UID:b78b3548-b603-11e8-a04e-121996b373a2
DTSTAMP:20180911T204611Z
SUMMARY:Early Release
URL;VALUE=URI:https://www.niles71.org/about-us/calendar/1864563/early-relea
 se
DTSTART:20181031T113000Z
DTEND:20181031T214500Z
END:VEVENT
END:VCALENDAR
