BEGIN:VCALENDAR
VERSION:2.0
PRODID:SchoolNow
CALSCALE:GREGORIAN
BEGIN:VEVENT
UID:112b192e-b604-11e8-9463-1273bd4562fa
DTSTAMP:20181119T210136Z
SUMMARY:Early Release - Parent Teacher Conferences
URL;VALUE=URI:https://www.niles71.org/about-us/calendar/1864565/early-relea
 se
DTSTART:20181119T113000Z
DTEND:20181119T214700Z
END:VEVENT
END:VCALENDAR
