BEGIN:VCALENDAR
VERSION:2.0
PRODID:SchoolNow
CALSCALE:GREGORIAN
BEGIN:VEVENT
UID:3b07e34e-b604-11e8-8584-12c28fb0d10a
DTSTAMP:20180911T205217Z
SUMMARY:Early Release
URL;VALUE=URI:https://www.niles71.org/about-us/calendar/1864566/early-relea
 se
DTSTART:20181221T113000Z
DTEND:20181221T214900Z
END:VEVENT
END:VCALENDAR
