BEGIN:VCALENDAR
VERSION:2.0
PRODID:SchoolNow
CALSCALE:GREGORIAN
BEGIN:VEVENT
UID:ee1ebc5a-b604-11e8-af77-12c28fb0d10a
DTSTAMP:20180911T205452Z
SUMMARY:Early Release
URL;VALUE=URI:https://www.niles71.org/about-us/calendar/1864567/early-relea
 se
DTSTART:20190215T113000Z
DTEND:20190215T215200Z
END:VEVENT
END:VCALENDAR
