BEGIN:VCALENDAR
VERSION:2.0
PRODID:SchoolNow
CALSCALE:GREGORIAN
BEGIN:VEVENT
UID:2bd92602-b605-11e8-a714-12c28fb0d10a
DTSTAMP:20180911T205934Z
SUMMARY:Early Release
URL;VALUE=URI:https://www.niles71.org/about-us/calendar/1864568/early-relea
 se
DTSTART:20190322T113000Z
DTEND:20190322T215500Z
END:VEVENT
END:VCALENDAR
