BEGIN:VCALENDAR
VERSION:2.0
PRODID:SchoolNow
CALSCALE:GREGORIAN
BEGIN:VEVENT
UID:6852df9c-b605-11e8-8214-0ae0d5c22e14
DTSTAMP:20180911T210032Z
SUMMARY:Early Release
URL;VALUE=URI:https://www.niles71.org/about-us/calendar/1864569/early-relea
 se
DTSTART:20190426T113000Z
DTEND:20190426T215700Z
END:VEVENT
END:VCALENDAR
