BEGIN:VCALENDAR
VERSION:2.0
PRODID:SchoolNow
CALSCALE:GREGORIAN
BEGIN:VEVENT
UID:eb6330bc-b605-11e8-bd77-0a5123971666
DTSTAMP:20180911T210157Z
SUMMARY:Early Release
URL;VALUE=URI:https://www.niles71.org/about-us/calendar/1864570/early-relea
 se
DTSTART:20190524T113000Z
DTEND:20190524T220100Z
END:VEVENT
END:VCALENDAR
