BEGIN:VCALENDAR
VERSION:2.0
PRODID:SchoolNow
CALSCALE:GREGORIAN
BEGIN:VEVENT
UID:e5130006-b606-11e8-b002-1273bd4562fa
DTSTAMP:20180911T210856Z
SUMMARY:No School -- President's Day
URL;VALUE=URI:https://www.niles71.org/about-us/calendar/1864571/no-school-p
 residents-day
DTSTART;VALUE=DATE:20190218
DTEND;VALUE=DATE:20190219
END:VEVENT
END:VCALENDAR
