BEGIN:VCALENDAR
VERSION:2.0
PRODID:SchoolNow
CALSCALE:GREGORIAN
BEGIN:VEVENT
UID:1e956f8a-b607-11e8-816f-12c28fb0d10a
DTSTAMP:20180911T211832Z
SUMMARY:No School -- Parent/Teacher Conferences
URL;VALUE=URI:https://www.niles71.org/about-us/calendar/1864572/no-school-p
 arent-teacher-conferences
DTSTART;VALUE=DATE:20190228
DTEND;VALUE=DATE:20190301
END:VEVENT
END:VCALENDAR
