BEGIN:VCALENDAR
VERSION:2.0
PRODID:SchoolNow
CALSCALE:GREGORIAN
BEGIN:VEVENT
UID:57c151ac-b607-11e8-80ab-121996b373a2
DTSTAMP:20180911T211901Z
SUMMARY:No School -- Teacher Institute Day
URL;VALUE=URI:https://www.niles71.org/about-us/calendar/1864573/no-school-t
 eacher-institute-day
DTSTART;VALUE=DATE:20190301
DTEND;VALUE=DATE:20190302
END:VEVENT
END:VCALENDAR
