BEGIN:VCALENDAR
VERSION:2.0
PRODID:SchoolNow
CALSCALE:GREGORIAN
BEGIN:VEVENT
UID:b0adf8c4-b607-11e8-af11-1273bd4562fa
DTSTAMP:20180911T211437Z
SUMMARY:Spring Break
URL;VALUE=URI:https://www.niles71.org/about-us/calendar/1864574/spring-brea
 k
DTSTART;VALUE=DATE:20190325
DTEND;VALUE=DATE:20190330
END:VEVENT
END:VCALENDAR
