BEGIN:VCALENDAR
VERSION:2.0
PRODID:SchoolNow
CALSCALE:GREGORIAN
BEGIN:VEVENT
UID:fb9dee48-b607-11e8-8937-121996b373a2
DTSTAMP:20180911T211643Z
SUMMARY:No School -- Memorial Day
URL;VALUE=URI:https://www.niles71.org/about-us/calendar/1864577/no-school-m
 emorial-day
DTSTART;VALUE=DATE:20190527
DTEND;VALUE=DATE:20190528
END:VEVENT
END:VCALENDAR
