BEGIN:VCALENDAR
VERSION:2.0
PRODID:SchoolNow
CALSCALE:GREGORIAN
BEGIN:VEVENT
UID:51c5662e-b609-11e8-b19b-0a0f4dc24974
DTSTAMP:20180911T212617Z
SUMMARY:PTA Meeting
URL;VALUE=URI:https://www.niles71.org/about-us/calendar/1864578/pta-meeting
DTSTART:20181015T190000Z
DTEND:20181015T222400Z
END:VEVENT
END:VCALENDAR
