BEGIN:VCALENDAR
VERSION:2.0
PRODID:SchoolNow
CALSCALE:GREGORIAN
BEGIN:VEVENT
UID:828ad8ac-b609-11e8-9333-0a167e345150
DTSTAMP:20180911T212739Z
SUMMARY:PTA Meeting
URL;VALUE=URI:https://www.niles71.org/about-us/calendar/1864579/pta-meeting
DTSTART:20181126T190000Z
DTEND:20181126T222600Z
END:VEVENT
END:VCALENDAR
