BEGIN:VCALENDAR
VERSION:2.0
PRODID:SchoolNow
CALSCALE:GREGORIAN
BEGIN:VEVENT
UID:ec6e790e-b609-11e8-9fac-12c28fb0d10a
DTSTAMP:20180911T213037Z
SUMMARY:PTA Meeting
URL;VALUE=URI:https://www.niles71.org/about-us/calendar/1864580/pta-meeting
DTSTART:20190114T190000Z
DTEND:20190114T222800Z
END:VEVENT
END:VCALENDAR
