BEGIN:VCALENDAR
VERSION:2.0
PRODID:SchoolNow
CALSCALE:GREGORIAN
BEGIN:VEVENT
UID:2b4ac574-b60a-11e8-876b-0a167e345150
DTSTAMP:20180911T213222Z
SUMMARY:PTA Meeting
URL;VALUE=URI:https://www.niles71.org/about-us/calendar/1864583/pta-meeting
DTSTART:20190211T190000Z
DTEND:20190211T223100Z
END:VEVENT
END:VCALENDAR
