BEGIN:VCALENDAR
VERSION:2.0
PRODID:SchoolNow
CALSCALE:GREGORIAN
BEGIN:VEVENT
UID:72da0cc4-b60a-11e8-b4f7-0a167e345150
DTSTAMP:20180911T213422Z
SUMMARY:PTA Meeting
URL;VALUE=URI:https://www.niles71.org/about-us/calendar/1864584/pta-meeting
DTSTART:20190311T190000Z
DTEND:20190311T223300Z
END:VEVENT
END:VCALENDAR
