BEGIN:VCALENDAR
VERSION:2.0
PRODID:SchoolNow
CALSCALE:GREGORIAN
BEGIN:VEVENT
UID:31f62cc0-b60e-11e8-9dd7-122beef3a1c0
DTSTAMP:20180911T220111Z
SUMMARY:PTA Meeting
URL;VALUE=URI:https://www.niles71.org/about-us/calendar/1864586/pta-meeting
DTSTART:20190408T190000Z
DTEND:20190408T223500Z
END:VEVENT
END:VCALENDAR
