BEGIN:VCALENDAR
VERSION:2.0
PRODID:SchoolNow
CALSCALE:GREGORIAN
BEGIN:VEVENT
UID:71701172-b60e-11e8-a620-0a5123971666
DTSTAMP:20180911T220258Z
SUMMARY:PTA Meeting
URL;VALUE=URI:https://www.niles71.org/about-us/calendar/1864587/pta-meeting
DTSTART:20190513T190000Z
DTEND:20190513T230200Z
END:VEVENT
END:VCALENDAR
