BEGIN:VCALENDAR
VERSION:2.0
PRODID:SchoolNow
CALSCALE:GREGORIAN
BEGIN:VEVENT
UID:d188452e-f16f-11e8-993f-12d886461070
DTSTAMP:20181126T113839Z
SUMMARY:School Closed - Nov. 26th
URL;VALUE=URI:https://www.niles71.org/about-us/calendar/1909279/school-clos
 ed-nov-26th
DTSTART;VALUE=DATE:20181126
DTEND;VALUE=DATE:20181127
END:VEVENT
END:VCALENDAR
