BEGIN:VCALENDAR
VERSION:2.0
PRODID:SchoolNow
CALSCALE:GREGORIAN
BEGIN:VEVENT
UID:18edd000-5fbb-11e9-a899-0a33bda48752
DTSTAMP:20190415T202535Z
SUMMARY:Kindergarten Celebration
URL;VALUE=URI:https://www.niles71.org/about-us/calendar/1968667/kindergarte
 n-celebration
DTSTART:20190531T133000Z
DTEND:20190531T143000Z
END:VEVENT
END:VCALENDAR
