BEGIN:VCALENDAR
VERSION:2.0
PRODID:SchoolNow
CALSCALE:GREGORIAN
BEGIN:VEVENT
UID:7a6ef64a-5fbd-11e9-8106-0a67cba5db42
DTSTAMP:20190514T165943Z
SUMMARY:Preschool Celebrations
URL;VALUE=URI:https://www.niles71.org/about-us/calendar/1968681/preschool-c
 elebrations
DTSTART:20190603T090000Z
DTEND:20190603T133000Z
END:VEVENT
END:VCALENDAR
