BEGIN:VCALENDAR
VERSION:2.0
PRODID:SchoolNow
CALSCALE:GREGORIAN
BEGIN:VEVENT
UID:f1fefb66-8244-11e9-927a-12c8b28780c6
DTSTAMP:20190805T193754Z
SUMMARY:Registration/Residency Day ( A-J) - for families with last names st
 arting with A-J
URL;VALUE=URI:https://www.niles71.org/about-us/calendar/1992807/registratio
 n-residency-day-a-j-for-families-with-last-names-starting-with-a-j
DTSTART:20190813T140000Z
DTEND:20190813T190000Z
END:VEVENT
END:VCALENDAR
