BEGIN:VCALENDAR
VERSION:2.0
PRODID:SchoolNow
CALSCALE:GREGORIAN
BEGIN:VEVENT
UID:a3d4acb4-8245-11e9-b7b7-120abc83b72c
DTSTAMP:20190805T194057Z
SUMMARY:Registration/Residency Day ( K-Z) - for families with last names st
 arting with K-Z
URL;VALUE=URI:https://www.niles71.org/about-us/calendar/1992856/registratio
 n-residency-day-k-z-for-families-with-last-names-starting-with-k-z
DTSTART:20190814T140000Z
DTEND:20190814T190000Z
END:VEVENT
END:VCALENDAR
